Package: immunotation Version: 1.16.0 Command: chmod a+r immunotation -R && E:\biocbuild\bbs-3.21-bioc\R\bin\R.exe CMD build --keep-empty-dirs --no-resave-data immunotation StartedAt: 2025-08-14 19:51:02 -0400 (Thu, 14 Aug 2025) EndedAt: 2025-08-14 19:53:45 -0400 (Thu, 14 Aug 2025) EllapsedTime: 162.8 seconds RetCode: 1 Status: ERROR PackageFile: None PackageFileSize: NA