Package: immunotation Version: 1.16.3 Command: /Library/Frameworks/R.framework/Resources/bin/R CMD INSTALL immunotation StartedAt: 2025-10-13 15:16:57 -0400 (Mon, 13 Oct 2025) EndedAt: 2025-10-13 15:18:53 -0400 (Mon, 13 Oct 2025) EllapsedTime: 116.3 seconds RetCode: 0 Status: OK