Package: immunotation Version: 1.16.3 Command: /Library/Frameworks/R.framework/Resources/bin/R CMD build --keep-empty-dirs --no-resave-data immunotation StartedAt: 2025-10-13 19:52:48 -0400 (Mon, 13 Oct 2025) EndedAt: 2025-10-13 20:01:07 -0400 (Mon, 13 Oct 2025) EllapsedTime: 499.7 seconds RetCode: 0 Status: OK PackageFile: immunotation_1.16.3.tar.gz PackageFileSize: 2.223 MiB