Package: immunotation Version: 1.16.3 Command: /home/biocbuild/R/R/bin/R CMD INSTALL immunotation StartedAt: 2025-10-13 20:20:38 -0000 (Mon, 13 Oct 2025) EndedAt: 2025-10-13 20:23:26 -0000 (Mon, 13 Oct 2025) EllapsedTime: 168.1 seconds RetCode: 0 Status: OK