Package: immunotation Version: 1.16.3 Command: /home/biocbuild/R/R/bin/R CMD build --keep-empty-dirs --no-resave-data immunotation StartedAt: 2025-10-14 01:48:15 -0000 (Tue, 14 Oct 2025) EndedAt: 2025-10-14 01:55:28 -0000 (Tue, 14 Oct 2025) EllapsedTime: 432.2 seconds RetCode: 0 Status: OK PackageFile: immunotation_1.16.3.tar.gz PackageFileSize: 2.161 MiB