Package: immunotation Version: 1.16.0 Command: rm -rf immunotation.buildbin-libdir && mkdir immunotation.buildbin-libdir && /Users/biocbuild/BBS/utils/build-universal.sh immunotation_1.16.0.tar.gz /Library/Frameworks/R.framework/Resources/bin/R immunotation.buildbin-libdir StartedAt: 2025-04-21 22:38:56 -0400 (Mon, 21 Apr 2025) EndedAt: 2025-04-21 22:39:40 -0400 (Mon, 21 Apr 2025) EllapsedTime: 44.0 seconds RetCode: 0 Status: OK PackageFile: immunotation_1.16.0.tgz PackageFileSize: 4.224 MiB