Package: immunotation Version: 1.16.3 Command: /Library/Frameworks/R.framework/Resources/bin/R CMD build --keep-empty-dirs --no-resave-data immunotation StartedAt: 2025-10-14 02:38:05 -0400 (Tue, 14 Oct 2025) EndedAt: 2025-10-14 02:46:47 -0400 (Tue, 14 Oct 2025) EllapsedTime: 521.9 seconds RetCode: 0 Status: OK PackageFile: immunotation_1.16.3.tar.gz PackageFileSize: 2.223 MiB