Package: immunotation Version: 1.16.3 Command: rm -rf immunotation.buildbin-libdir && mkdir immunotation.buildbin-libdir && /Users/biocbuild/BBS/utils/build-universal.sh immunotation_1.16.3.tar.gz /Library/Frameworks/R.framework/Resources/bin/R immunotation.buildbin-libdir StartedAt: 2025-10-15 18:55:48 -0400 (Wed, 15 Oct 2025) EndedAt: 2025-10-15 18:57:59 -0400 (Wed, 15 Oct 2025) EllapsedTime: 131.9 seconds RetCode: 0 Status: OK PackageFile: immunotation_1.16.3.tgz PackageFileSize: 4.222 MiB