Package: immunoClust Version: 1.40.0 Command: /Library/Frameworks/R.framework/Resources/bin/R CMD check --install=check:immunoClust.install-out.txt --library=/Library/Frameworks/R.framework/Resources/library --no-vignettes --timings immunoClust_1.40.0.tar.gz StartedAt: 2025-04-21 19:54:15 -0400 (Mon, 21 Apr 2025) EndedAt: 2025-04-21 19:55:33 -0400 (Mon, 21 Apr 2025) EllapsedTime: 77.9 seconds RetCode: 0 Status: OK CheckDir: immunoClust.Rcheck Warnings: 0