Package: imcRtools Version: 1.14.0 Command: E:\biocbuild\bbs-3.21-bioc\R\bin\R.exe CMD INSTALL imcRtools StartedAt: 2025-08-14 16:15:57 -0400 (Thu, 14 Aug 2025) EndedAt: 2025-08-14 16:17:26 -0400 (Thu, 14 Aug 2025) EllapsedTime: 89.3 seconds RetCode: 0 Status: OK