Package: imcRtools Version: 1.14.0 Command: /home/biocbuild/bbs-3.21-bioc/R/bin/R CMD check --install=check:imcRtools.install-out.txt --library=/home/biocbuild/bbs-3.21-bioc/R/site-library --timings imcRtools_1.14.0.tar.gz StartedAt: 2025-09-29 00:18:25 -0400 (Mon, 29 Sep 2025) EndedAt: 2025-09-29 00:38:12 -0400 (Mon, 29 Sep 2025) EllapsedTime: 1186.7 seconds RetCode: 0 Status: OK CheckDir: imcRtools.Rcheck Warnings: 0