Package: imcRtools Version: 1.14.0 Command: /home/biocbuild/bbs-3.21-bioc/R/bin/R CMD build --keep-empty-dirs --no-resave-data imcRtools StartedAt: 2025-09-28 18:17:41 -0400 (Sun, 28 Sep 2025) EndedAt: 2025-09-28 18:20:44 -0400 (Sun, 28 Sep 2025) EllapsedTime: 182.2 seconds RetCode: 0 Status: OK PackageFile: imcRtools_1.14.0.tar.gz PackageFileSize: 6.175 MiB