Package: imageTCGA Version: 1.0.0 Command: chmod a+r imageTCGA -R && E:\biocbuild\bbs-3.21-bioc\R\bin\R.exe CMD build --keep-empty-dirs --no-resave-data imageTCGA StartedAt: 2025-08-14 19:49:50 -0400 (Thu, 14 Aug 2025) EndedAt: 2025-08-14 19:50:09 -0400 (Thu, 14 Aug 2025) EllapsedTime: 19.4 seconds RetCode: 0 Status: OK PackageFile: imageTCGA_1.0.0.tar.gz PackageFileSize: 2.604 MiB