Package: imageTCGA Version: 1.0.0 Command: rm -rf imageTCGA.buildbin-libdir && mkdir imageTCGA.buildbin-libdir && E:\biocbuild\bbs-3.21-bioc\R\bin\R.exe CMD INSTALL --build --library=imageTCGA.buildbin-libdir imageTCGA_1.0.0.tar.gz StartedAt: 2025-08-15 09:31:16 -0400 (Fri, 15 Aug 2025) EndedAt: 2025-08-15 09:31:39 -0400 (Fri, 15 Aug 2025) EllapsedTime: 23.8 seconds RetCode: 0 Status: OK PackageFile: imageTCGA_1.0.0.zip PackageFileSize: 1.833 MiB