Package: imageTCGA Version: 1.0.0 Command: /Library/Frameworks/R.framework/Resources/bin/R CMD INSTALL imageTCGA StartedAt: 2025-10-13 15:19:47 -0400 (Mon, 13 Oct 2025) EndedAt: 2025-10-13 15:20:18 -0400 (Mon, 13 Oct 2025) EllapsedTime: 30.6 seconds RetCode: 0 Status: OK