Package: imageTCGA Version: 1.0.0 Command: rm -rf imageTCGA.buildbin-libdir && mkdir imageTCGA.buildbin-libdir && /Users/biocbuild/BBS/utils/build-universal.sh imageTCGA_1.0.0.tar.gz /Library/Frameworks/R.framework/Resources/bin/R imageTCGA.buildbin-libdir StartedAt: 2025-10-14 13:46:04 -0400 (Tue, 14 Oct 2025) EndedAt: 2025-10-14 13:46:29 -0400 (Tue, 14 Oct 2025) EllapsedTime: 24.5 seconds RetCode: 0 Status: OK PackageFile: imageTCGA_1.0.0.tgz PackageFileSize: 1.832 MiB