Package: imageTCGA Version: 1.0.0 Command: /home/biocbuild/R/R/bin/R CMD INSTALL imageTCGA StartedAt: 2025-10-13 20:22:25 -0000 (Mon, 13 Oct 2025) EndedAt: 2025-10-13 20:22:39 -0000 (Mon, 13 Oct 2025) EllapsedTime: 13.9 seconds RetCode: 0 Status: OK