Package: illuminaio Version: 0.50.0 Command: /Library/Frameworks/R.framework/Resources/bin/R CMD build --keep-empty-dirs --no-resave-data illuminaio StartedAt: 2025-10-13 19:51:47 -0400 (Mon, 13 Oct 2025) EndedAt: 2025-10-13 19:52:25 -0400 (Mon, 13 Oct 2025) EllapsedTime: 37.2 seconds RetCode: 0 Status: OK PackageFile: illuminaio_0.50.0.tar.gz PackageFileSize: 429.4 KiB