Package: illuminaio Version: 0.50.0 Command: /home/biocbuild/R/R/bin/R CMD INSTALL illuminaio StartedAt: 2025-10-13 20:12:33 -0000 (Mon, 13 Oct 2025) EndedAt: 2025-10-13 20:12:42 -0000 (Mon, 13 Oct 2025) EllapsedTime: 9.6 seconds RetCode: 0 Status: OK