Package: illuminaio Version: 0.50.0 Command: /home/biocbuild/R/R/bin/R CMD check --install=check:illuminaio.install-out.txt --library=/home/biocbuild/R/R/site-library --no-vignettes --timings illuminaio_0.50.0.tar.gz StartedAt: 2025-10-14 10:18:11 -0000 (Tue, 14 Oct 2025) EndedAt: 2025-10-14 10:18:39 -0000 (Tue, 14 Oct 2025) EllapsedTime: 28.0 seconds RetCode: 0 Status: OK CheckDir: illuminaio.Rcheck Warnings: 0