Package: illuminaio Version: 0.50.0 Command: /home/biocbuild/R/R/bin/R CMD build --keep-empty-dirs --no-resave-data illuminaio StartedAt: 2025-10-14 01:46:44 -0000 (Tue, 14 Oct 2025) EndedAt: 2025-10-14 01:46:57 -0000 (Tue, 14 Oct 2025) EllapsedTime: 13.0 seconds RetCode: 0 Status: OK PackageFile: illuminaio_0.50.0.tar.gz PackageFileSize: 383.2 KiB