Package: illuminaio Version: 0.50.0 Command: rm -rf illuminaio.buildbin-libdir && mkdir illuminaio.buildbin-libdir && /Users/biocbuild/BBS/utils/build-universal.sh illuminaio_0.50.0.tar.gz /Library/Frameworks/R.framework/Resources/bin/R illuminaio.buildbin-libdir StartedAt: 2025-10-15 18:55:06 -0400 (Wed, 15 Oct 2025) EndedAt: 2025-10-15 18:55:12 -0400 (Wed, 15 Oct 2025) EllapsedTime: 5.8 seconds RetCode: 0 Status: OK PackageFile: illuminaio_0.50.0.tgz PackageFileSize: 448.9 KiB