Package: igvR Version: 1.28.0 Command: /home/biocbuild/R/R/bin/R CMD INSTALL igvR StartedAt: 2025-10-13 21:19:50 -0000 (Mon, 13 Oct 2025) EndedAt: 2025-10-13 21:20:47 -0000 (Mon, 13 Oct 2025) EllapsedTime: 56.9 seconds RetCode: 0 Status: OK