Package: idr2d Version: 1.22.0 Command: E:\biocbuild\bbs-3.21-bioc\R\bin\R.exe CMD INSTALL idr2d StartedAt: 2025-08-14 15:51:30 -0400 (Thu, 14 Aug 2025) EndedAt: 2025-08-14 15:51:55 -0400 (Thu, 14 Aug 2025) EllapsedTime: 25.3 seconds RetCode: 0 Status: OK