Package: idr2d Version: 1.22.0 Command: chmod a+r idr2d -R && E:\biocbuild\bbs-3.21-bioc\R\bin\R.exe CMD build --keep-empty-dirs --no-resave-data idr2d StartedAt: 2025-08-14 19:48:13 -0400 (Thu, 14 Aug 2025) EndedAt: 2025-08-14 19:48:56 -0400 (Thu, 14 Aug 2025) EllapsedTime: 42.4 seconds RetCode: 0 Status: OK PackageFile: idr2d_1.22.0.tar.gz PackageFileSize: 1.215 MiB