Package: idr2d Version: 1.22.0 Command: rm -rf idr2d.buildbin-libdir && mkdir idr2d.buildbin-libdir && E:\biocbuild\bbs-3.21-bioc\R\bin\R.exe CMD INSTALL --build --library=idr2d.buildbin-libdir idr2d_1.22.0.tar.gz StartedAt: 2025-08-15 09:30:49 -0400 (Fri, 15 Aug 2025) EndedAt: 2025-08-15 09:31:24 -0400 (Fri, 15 Aug 2025) EllapsedTime: 34.5 seconds RetCode: 0 Status: OK PackageFile: idr2d_1.22.0.zip PackageFileSize: 1.351 MiB