Package: idpr Version: 1.18.0 Command: /Library/Frameworks/R.framework/Resources/bin/R CMD check --install=check:idpr.install-out.txt --library=/Library/Frameworks/R.framework/Resources/library --no-vignettes --timings idpr_1.18.0.tar.gz StartedAt: 2025-10-14 05:17:50 -0400 (Tue, 14 Oct 2025) EndedAt: 2025-10-14 05:20:09 -0400 (Tue, 14 Oct 2025) EllapsedTime: 139.6 seconds RetCode: 0 Status: OK CheckDir: idpr.Rcheck Warnings: 0