Package: idpr Version: 1.18.0 Command: /home/biocbuild/R/R/bin/R CMD INSTALL idpr StartedAt: 2025-10-13 20:46:24 -0000 (Mon, 13 Oct 2025) EndedAt: 2025-10-13 20:46:31 -0000 (Mon, 13 Oct 2025) EllapsedTime: 7.4 seconds RetCode: 0 Status: OK