Package: idpr Version: 1.18.0 Command: /home/biocbuild/R/R/bin/R CMD build --keep-empty-dirs --no-resave-data idpr StartedAt: 2025-10-14 01:45:32 -0000 (Tue, 14 Oct 2025) EndedAt: 2025-10-14 01:47:02 -0000 (Tue, 14 Oct 2025) EllapsedTime: 90.0 seconds RetCode: 0 Status: OK PackageFile: idpr_1.18.0.tar.gz PackageFileSize: 3.089 MiB