Package: idpr Version: 1.18.0 Command: /Library/Frameworks/R.framework/Resources/bin/R CMD build --keep-empty-dirs --no-resave-data idpr StartedAt: 2025-04-21 16:40:03 -0400 (Mon, 21 Apr 2025) EndedAt: 2025-04-21 16:40:41 -0400 (Mon, 21 Apr 2025) EllapsedTime: 38.4 seconds RetCode: 0 Status: OK PackageFile: idpr_1.18.0.tar.gz PackageFileSize: 3.613 MiB