Package: idiogram Version: 1.84.0 Command: E:\biocbuild\bbs-3.21-bioc\R\bin\R.exe CMD check --no-multiarch --install=check:idiogram.install-out.txt --library=E:\biocbuild\bbs-3.21-bioc\R\library --no-vignettes --timings idiogram_1.84.0.tar.gz StartedAt: 2025-08-15 03:14:17 -0400 (Fri, 15 Aug 2025) EndedAt: 2025-08-15 03:16:23 -0400 (Fri, 15 Aug 2025) EllapsedTime: 126.2 seconds RetCode: 0 Status: OK CheckDir: idiogram.Rcheck Warnings: 0