Package: idiogram Version: 1.84.0 Command: rm -rf idiogram.buildbin-libdir && mkdir idiogram.buildbin-libdir && E:\biocbuild\bbs-3.21-bioc\R\bin\R.exe CMD INSTALL --build --library=idiogram.buildbin-libdir idiogram_1.84.0.tar.gz StartedAt: 2025-08-15 09:30:45 -0400 (Fri, 15 Aug 2025) EndedAt: 2025-08-15 09:31:27 -0400 (Fri, 15 Aug 2025) EllapsedTime: 41.9 seconds RetCode: 0 Status: OK PackageFile: idiogram_1.84.0.zip PackageFileSize: 3.643 MiB