Package: idiogram Version: 1.84.0 Command: /Library/Frameworks/R.framework/Resources/bin/R CMD check --install=check:idiogram.install-out.txt --library=/Library/Frameworks/R.framework/Resources/library --no-vignettes --timings idiogram_1.84.0.tar.gz StartedAt: 2025-10-14 05:17:31 -0400 (Tue, 14 Oct 2025) EndedAt: 2025-10-14 05:21:10 -0400 (Tue, 14 Oct 2025) EllapsedTime: 219.4 seconds RetCode: 0 Status: OK CheckDir: idiogram.Rcheck Warnings: 0