Package: idiogram Version: 1.84.0 Command: /Library/Frameworks/R.framework/Resources/bin/R CMD build --keep-empty-dirs --no-resave-data idiogram StartedAt: 2025-10-13 19:50:15 -0400 (Mon, 13 Oct 2025) EndedAt: 2025-10-13 19:51:10 -0400 (Mon, 13 Oct 2025) EllapsedTime: 54.7 seconds RetCode: 0 Status: OK PackageFile: idiogram_1.84.0.tar.gz PackageFileSize: 1.795 MiB