Package: icetea Version: 1.26.0 Command: chmod a+r icetea -R && E:\biocbuild\bbs-3.21-bioc\R\bin\R.exe CMD build --keep-empty-dirs --no-resave-data icetea StartedAt: 2025-08-14 19:47:37 -0400 (Thu, 14 Aug 2025) EndedAt: 2025-08-14 19:50:22 -0400 (Thu, 14 Aug 2025) EllapsedTime: 164.6 seconds RetCode: 0 Status: OK PackageFile: icetea_1.26.0.tar.gz PackageFileSize: 622.3 KiB