Package: icetea Version: 1.26.0 Command: rm -rf icetea.buildbin-libdir && mkdir icetea.buildbin-libdir && E:\biocbuild\bbs-3.21-bioc\R\bin\R.exe CMD INSTALL --build --library=icetea.buildbin-libdir icetea_1.26.0.tar.gz StartedAt: 2025-08-15 09:30:33 -0400 (Fri, 15 Aug 2025) EndedAt: 2025-08-15 09:31:59 -0400 (Fri, 15 Aug 2025) EllapsedTime: 85.8 seconds RetCode: 0 Status: OK PackageFile: icetea_1.26.0.zip PackageFileSize: 1.013 MiB