Package: icetea Version: 1.26.0 Command: /home/biocbuild/bbs-3.21-bioc/R/bin/R CMD INSTALL icetea StartedAt: 2025-10-12 15:53:06 -0400 (Sun, 12 Oct 2025) EndedAt: 2025-10-12 15:53:56 -0400 (Sun, 12 Oct 2025) EllapsedTime: 50.6 seconds RetCode: 0 Status: OK