Package: icetea Version: 1.26.0 Command: /Library/Frameworks/R.framework/Resources/bin/R CMD check --install=check:icetea.install-out.txt --library=/Library/Frameworks/R.framework/Resources/library --no-vignettes --timings icetea_1.26.0.tar.gz StartedAt: 2025-10-14 05:15:38 -0400 (Tue, 14 Oct 2025) EndedAt: 2025-10-14 05:28:31 -0400 (Tue, 14 Oct 2025) EllapsedTime: 772.9 seconds RetCode: 0 Status: WARNINGS CheckDir: icetea.Rcheck Warnings: 1