Package: icetea Version: 1.26.0 Command: /Library/Frameworks/R.framework/Resources/bin/R CMD check --install=check:icetea.install-out.txt --library=/Library/Frameworks/R.framework/Resources/library --no-vignettes --timings icetea_1.26.0.tar.gz StartedAt: 2025-04-21 21:19:56 -0400 (Mon, 21 Apr 2025) EndedAt: 2025-04-21 21:26:53 -0400 (Mon, 21 Apr 2025) EllapsedTime: 416.7 seconds RetCode: 0 Status: WARNINGS CheckDir: icetea.Rcheck Warnings: 1