Package: icetea Version: 1.26.0 Command: /home/biocbuild/R/R/bin/R CMD INSTALL icetea StartedAt: 2025-10-13 21:09:26 -0000 (Mon, 13 Oct 2025) EndedAt: 2025-10-13 21:10:39 -0000 (Mon, 13 Oct 2025) EllapsedTime: 73.2 seconds RetCode: 0 Status: OK