Package: icetea Version: 1.26.0 Command: /home/biocbuild/R/R/bin/R CMD check --install=check:icetea.install-out.txt --library=/home/biocbuild/R/R/site-library --no-vignettes --timings icetea_1.26.0.tar.gz StartedAt: 2025-10-14 10:15:42 -0000 (Tue, 14 Oct 2025) EndedAt: 2025-10-14 10:24:51 -0000 (Tue, 14 Oct 2025) EllapsedTime: 548.4 seconds RetCode: 0 Status: WARNINGS CheckDir: icetea.Rcheck Warnings: 1