Package: icetea Version: 1.26.0 Command: /Library/Frameworks/R.framework/Resources/bin/R CMD build --keep-empty-dirs --no-resave-data icetea StartedAt: 2025-10-14 02:27:41 -0400 (Tue, 14 Oct 2025) EndedAt: 2025-10-14 02:29:51 -0400 (Tue, 14 Oct 2025) EllapsedTime: 130.2 seconds RetCode: 0 Status: OK PackageFile: icetea_1.26.0.tar.gz PackageFileSize: 795.3 KiB