Package: iSeq Version: 1.60.0 Command: /Library/Frameworks/R.framework/Resources/bin/R CMD check --install=check:iSeq.install-out.txt --library=/Library/Frameworks/R.framework/Resources/library --no-vignettes --timings iSeq_1.60.0.tar.gz StartedAt: 2025-10-14 05:33:34 -0400 (Tue, 14 Oct 2025) EndedAt: 2025-10-14 05:34:34 -0400 (Tue, 14 Oct 2025) EllapsedTime: 59.7 seconds RetCode: 0 Status: OK CheckDir: iSeq.Rcheck Warnings: 0