Package: iSEEu Version: 1.20.0 Command: /home/biocbuild/bbs-3.21-bioc/R/bin/R CMD INSTALL iSEEu StartedAt: 2025-10-15 15:24:11 -0400 (Wed, 15 Oct 2025) EndedAt: 2025-10-15 15:24:46 -0400 (Wed, 15 Oct 2025) EllapsedTime: 35.7 seconds RetCode: 0 Status: OK