Package: iSEEu Version: 1.20.0 Command: /Library/Frameworks/R.framework/Resources/bin/R CMD check --install=check:iSEEu.install-out.txt --library=/Library/Frameworks/R.framework/Resources/library --no-vignettes --timings iSEEu_1.20.0.tar.gz StartedAt: 2025-10-14 05:33:12 -0400 (Tue, 14 Oct 2025) EndedAt: 2025-10-14 05:44:08 -0400 (Tue, 14 Oct 2025) EllapsedTime: 655.7 seconds RetCode: 0 Status: WARNINGS CheckDir: iSEEu.Rcheck Warnings: 1