Package: iSEEu Version: 1.20.0 Command: /home/biocbuild/R/R/bin/R CMD INSTALL iSEEu StartedAt: 2025-10-13 20:38:46 -0000 (Mon, 13 Oct 2025) EndedAt: 2025-10-13 20:39:37 -0000 (Mon, 13 Oct 2025) EllapsedTime: 51.0 seconds RetCode: 0 Status: OK