Package: iSEEu Version: 1.20.0 Command: rm -rf iSEEu.buildbin-libdir && mkdir iSEEu.buildbin-libdir && /Users/biocbuild/BBS/utils/build-universal.sh iSEEu_1.20.0.tar.gz /Library/Frameworks/R.framework/Resources/bin/R iSEEu.buildbin-libdir StartedAt: 2025-04-21 22:39:32 -0400 (Mon, 21 Apr 2025) EndedAt: 2025-04-21 22:39:48 -0400 (Mon, 21 Apr 2025) EllapsedTime: 15.3 seconds RetCode: 0 Status: OK PackageFile: iSEEu_1.20.0.tgz PackageFileSize: 1.431 MiB