Package: iSEEu Version: 1.20.0 Command: rm -rf iSEEu.buildbin-libdir && mkdir iSEEu.buildbin-libdir && /Users/biocbuild/BBS/utils/build-universal.sh iSEEu_1.20.0.tar.gz /Library/Frameworks/R.framework/Resources/bin/R iSEEu.buildbin-libdir StartedAt: 2025-10-15 19:00:11 -0400 (Wed, 15 Oct 2025) EndedAt: 2025-10-15 19:00:58 -0400 (Wed, 15 Oct 2025) EllapsedTime: 46.7 seconds RetCode: 0 Status: OK PackageFile: iSEEu_1.20.0.tgz PackageFileSize: 1.43 MiB