Package: iSEEpathways Version: 1.6.0 Command: chmod a+r iSEEpathways -R && E:\biocbuild\bbs-3.21-bioc\R\bin\R.exe CMD build --keep-empty-dirs --no-resave-data iSEEpathways StartedAt: 2025-08-14 19:56:16 -0400 (Thu, 14 Aug 2025) EndedAt: 2025-08-14 20:02:23 -0400 (Thu, 14 Aug 2025) EllapsedTime: 366.8 seconds RetCode: 0 Status: OK PackageFile: iSEEpathways_1.6.0.tar.gz PackageFileSize: 2.14 MiB