Package: iSEEpathways Version: 1.6.0 Command: rm -rf iSEEpathways.buildbin-libdir && mkdir iSEEpathways.buildbin-libdir && E:\biocbuild\bbs-3.21-bioc\R\bin\R.exe CMD INSTALL --build --library=iSEEpathways.buildbin-libdir iSEEpathways_1.6.0.tar.gz StartedAt: 2025-08-15 09:33:03 -0400 (Fri, 15 Aug 2025) EndedAt: 2025-08-15 09:34:17 -0400 (Fri, 15 Aug 2025) EllapsedTime: 74.0 seconds RetCode: 0 Status: OK PackageFile: iSEEpathways_1.6.0.zip PackageFileSize: 1.791 MiB